BEGIN:VCALENDAR
VERSION:2.0
PRODID:-//CEO Solutions - ECPv6.15.20//NONSGML v1.0//EN
CALSCALE:GREGORIAN
METHOD:PUBLISH
X-WR-CALNAME:CEO Solutions
X-ORIGINAL-URL:https://ceosolution.net
X-WR-CALDESC:Events for CEO Solutions
REFRESH-INTERVAL;VALUE=DURATION:PT1H
X-Robots-Tag:noindex
X-PUBLISHED-TTL:PT1H
BEGIN:VTIMEZONE
TZID:America/Chicago
BEGIN:DAYLIGHT
TZOFFSETFROM:-0600
TZOFFSETTO:-0500
TZNAME:CDT
DTSTART:20160313T080000
END:DAYLIGHT
BEGIN:STANDARD
TZOFFSETFROM:-0500
TZOFFSETTO:-0600
TZNAME:CST
DTSTART:20161106T070000
END:STANDARD
BEGIN:DAYLIGHT
TZOFFSETFROM:-0600
TZOFFSETTO:-0500
TZNAME:CDT
DTSTART:20170312T080000
END:DAYLIGHT
BEGIN:STANDARD
TZOFFSETFROM:-0500
TZOFFSETTO:-0600
TZNAME:CST
DTSTART:20171105T070000
END:STANDARD
BEGIN:DAYLIGHT
TZOFFSETFROM:-0600
TZOFFSETTO:-0500
TZNAME:CDT
DTSTART:20180311T080000
END:DAYLIGHT
BEGIN:STANDARD
TZOFFSETFROM:-0500
TZOFFSETTO:-0600
TZNAME:CST
DTSTART:20181104T070000
END:STANDARD
END:VTIMEZONE
BEGIN:VEVENT
DTSTART;TZID=America/Chicago:20171213T113000
DTEND;TZID=America/Chicago:20171213T130000
DTSTAMP:20260421T112247
CREATED:20171209T025408Z
LAST-MODIFIED:20171209T025408Z
UID:2406-1513164600-1513170000@ceosolution.net
SUMMARY:Club Entrepreneur St. Paul\, MN
DESCRIPTION:Who We Are.\nClub Entrepreneur is a community of business professionals who meet each month for networking\, idea sharing and presentations from some of the country’s most respected innovators\, catalysts and thought leaders. \nDuring each lunch-hour session\, you’ll have a chance to enjoy a meal\, chat with peers and strengthen your network of personal and professional relationships. There will be a speaker presentation on an informative topic that provides practical\, actionable ideas. The purpose behind each session is provide you with the encouragement to go back to your office just a little bit smarter\, savvier and more energized than when you left for lunch. \nAll monthly meetings are open to the public. You may also choose to become a member of the Club Entrepreneur community\, which will allows you unlimited access to a video library of previous speaker presentations and a searchable database of active members. \nFor St. Paul\, connect with Chum Struve\, 651.247.3091  chumstruve@legalshieldassociate.com \nOur gatherings are brought to you by Brimacomb & Associates\, LLC and supported by our generous Sponsors. \nOur mission is to provide timely support to established and emerging business leaders\, help them strengthen their professional networks and develop productive business relationships\, and provide them with actionable\, innovative ideas.\n  \nKeep the discussion going!\n Join the Club Entrepreneur LinkedIn group: CLICK HERE
URL:https://ceosolution.net/event/club-entrepreneur-st-paul-mn/2017-12-13/
CATEGORIES:Monthly Meetings
ATTACH;FMTTYPE=image/jpeg:https://ceosolution.net/wp-content/uploads/2021/12/header-09.jpg
END:VEVENT
END:VCALENDAR