BEGIN:VCALENDAR
VERSION:2.0
PRODID:-//CEO Solutions - ECPv6.15.20//NONSGML v1.0//EN
CALSCALE:GREGORIAN
METHOD:PUBLISH
X-WR-CALNAME:CEO Solutions
X-ORIGINAL-URL:https://ceosolution.net
X-WR-CALDESC:Events for CEO Solutions
REFRESH-INTERVAL;VALUE=DURATION:PT1H
X-Robots-Tag:noindex
X-PUBLISHED-TTL:PT1H
BEGIN:VTIMEZONE
TZID:America/New_York
BEGIN:DAYLIGHT
TZOFFSETFROM:-0500
TZOFFSETTO:-0400
TZNAME:EDT
DTSTART:20200308T070000
END:DAYLIGHT
BEGIN:STANDARD
TZOFFSETFROM:-0400
TZOFFSETTO:-0500
TZNAME:EST
DTSTART:20201101T060000
END:STANDARD
BEGIN:DAYLIGHT
TZOFFSETFROM:-0500
TZOFFSETTO:-0400
TZNAME:EDT
DTSTART:20210314T070000
END:DAYLIGHT
BEGIN:STANDARD
TZOFFSETFROM:-0400
TZOFFSETTO:-0500
TZNAME:EST
DTSTART:20211107T060000
END:STANDARD
BEGIN:DAYLIGHT
TZOFFSETFROM:-0500
TZOFFSETTO:-0400
TZNAME:EDT
DTSTART:20220313T070000
END:DAYLIGHT
BEGIN:STANDARD
TZOFFSETFROM:-0400
TZOFFSETTO:-0500
TZNAME:EST
DTSTART:20221106T060000
END:STANDARD
END:VTIMEZONE
BEGIN:VEVENT
DTSTART;TZID=America/New_York:20210420T080000
DTEND;TZID=America/New_York:20210420T120000
DTSTAMP:20260425T103726
CREATED:20210401T224056Z
LAST-MODIFIED:20210401T224056Z
UID:1504-1618905600-1618920000@ceosolution.net
SUMMARY:Performance Based Management
DESCRIPTION:The purpose is to help managers become leaders and elevate their capabilities to bring more value to their organizations. Leaders learn and experience how to use proven management tools\, such as planning\, delegating\, organizing\, directing\, problem solving etc. as a leadership tool. With multiple sessions\, participants have time to apply and test the tools and ideas they are exposed to. Now you have knowledge with practical application and a viable skill set.
URL:https://ceosolution.net/event/performance-based-management/2021-04-20/
LOCATION:H. Goerger & Associates Inc Office\, 756 Center St N\, Suite 1\, West Fargo\, ND\, 58078\, United States
GEO:46.88544;-96.9005071
X-APPLE-STRUCTURED-LOCATION;VALUE=URI;X-ADDRESS=H. Goerger & Associates Inc Office 756 Center St N Suite 1 West Fargo ND 58078 United States;X-APPLE-RADIUS=500;X-TITLE=756 Center St N\, Suite 1:geo:-96.9005071,46.88544
END:VEVENT
END:VCALENDAR