BEGIN:VCALENDAR
VERSION:2.0
PRODID:-//CEO Solutions - ECPv6.15.20//NONSGML v1.0//EN
CALSCALE:GREGORIAN
METHOD:PUBLISH
X-ORIGINAL-URL:https://ceosolution.net
X-WR-CALDESC:Events for CEO Solutions
REFRESH-INTERVAL;VALUE=DURATION:PT1H
X-Robots-Tag:noindex
X-PUBLISHED-TTL:PT1H
BEGIN:VTIMEZONE
TZID:Asia/Karachi
BEGIN:STANDARD
TZOFFSETFROM:+0500
TZOFFSETTO:+0500
TZNAME:PKT
DTSTART:20190101T000000
END:STANDARD
END:VTIMEZONE
BEGIN:VEVENT
DTSTART;TZID=Asia/Karachi:20200106T130000
DTEND;TZID=Asia/Karachi:20200106T170000
DTSTAMP:20260421T201156
CREATED:20191213T154957Z
LAST-MODIFIED:20191213T154957Z
UID:1269-1578315600-1578330000@ceosolution.net
SUMMARY:Performance Management - Inhouse
DESCRIPTION:Leadership Development for existing and emerging leaders
URL:https://ceosolution.net/event/performance-management-inhouse/2020-01-06/
LOCATION:H. Goerger & Associates Inc Office\, 756 Center St N\, Suite 1\, West Fargo\, ND\, 58078\, United States
GEO:46.88544;-96.9005071
X-APPLE-STRUCTURED-LOCATION;VALUE=URI;X-ADDRESS=H. Goerger & Associates Inc Office 756 Center St N Suite 1 West Fargo ND 58078 United States;X-APPLE-RADIUS=500;X-TITLE=756 Center St N\, Suite 1:geo:-96.9005071,46.88544
END:VEVENT
END:VCALENDAR