BEGIN:VCALENDAR
VERSION:2.0
PRODID:-//CEO Solutions - ECPv6.15.20//NONSGML v1.0//EN
CALSCALE:GREGORIAN
METHOD:PUBLISH
X-ORIGINAL-URL:https://ceosolution.net
X-WR-CALDESC:Events for CEO Solutions
REFRESH-INTERVAL;VALUE=DURATION:PT1H
X-Robots-Tag:noindex
X-PUBLISHED-TTL:PT1H
BEGIN:VTIMEZONE
TZID:America/New_York
BEGIN:DAYLIGHT
TZOFFSETFROM:-0500
TZOFFSETTO:-0400
TZNAME:EDT
DTSTART:20190310T070000
END:DAYLIGHT
BEGIN:STANDARD
TZOFFSETFROM:-0400
TZOFFSETTO:-0500
TZNAME:EST
DTSTART:20191103T060000
END:STANDARD
BEGIN:DAYLIGHT
TZOFFSETFROM:-0500
TZOFFSETTO:-0400
TZNAME:EDT
DTSTART:20200308T070000
END:DAYLIGHT
BEGIN:STANDARD
TZOFFSETFROM:-0400
TZOFFSETTO:-0500
TZNAME:EST
DTSTART:20201101T060000
END:STANDARD
BEGIN:DAYLIGHT
TZOFFSETFROM:-0500
TZOFFSETTO:-0400
TZNAME:EDT
DTSTART:20210314T070000
END:DAYLIGHT
BEGIN:STANDARD
TZOFFSETFROM:-0400
TZOFFSETTO:-0500
TZNAME:EST
DTSTART:20211107T060000
END:STANDARD
END:VTIMEZONE
BEGIN:VEVENT
DTSTART;TZID=America/New_York:20200207T080000
DTEND;TZID=America/New_York:20200207T120000
DTSTAMP:20260421T212404
CREATED:20191213T160112Z
LAST-MODIFIED:20191213T160112Z
UID:1276-1581062400-1581076800@ceosolution.net
SUMMARY:Performance Management Program
DESCRIPTION:Development program for existing and emerging leaders\, turn managers to coach leaders
URL:https://ceosolution.net/event/performance-management-program/2020-02-07/
LOCATION:H. Goerger & Associates Inc Office\, 756 Center St N\, Suite 1\, West Fargo\, ND\, 58078\, United States
GEO:46.88544;-96.9005071
X-APPLE-STRUCTURED-LOCATION;VALUE=URI;X-ADDRESS=H. Goerger & Associates Inc Office 756 Center St N Suite 1 West Fargo ND 58078 United States;X-APPLE-RADIUS=500;X-TITLE=756 Center St N\, Suite 1:geo:-96.9005071,46.88544
END:VEVENT
END:VCALENDAR